BEGIN:VCALENDAR
VERSION:2.0
PRODID:-//Kulturverein Staudernheim e.V. - ECPv6.3.1//NONSGML v1.0//EN
CALSCALE:GREGORIAN
METHOD:PUBLISH
X-WR-CALNAME:Kulturverein Staudernheim e.V.
X-ORIGINAL-URL:https://kulturverein-staudernheim.de
X-WR-CALDESC:Veranstaltungen für Kulturverein Staudernheim e.V.
REFRESH-INTERVAL;VALUE=DURATION:PT1H
X-Robots-Tag:noindex
X-PUBLISHED-TTL:PT1H
BEGIN:VTIMEZONE
TZID:UTC
BEGIN:STANDARD
TZOFFSETFROM:+0000
TZOFFSETTO:+0000
TZNAME:UTC
DTSTART:20200101T000000
END:STANDARD
END:VTIMEZONE
BEGIN:VEVENT
DTSTART;TZID=UTC:20200118T191000
DTEND;TZID=UTC:20200118T235900
DTSTAMP:20260425T125309
CREATED:20190705T081608Z
LAST-MODIFIED:20200116T070306Z
UID:723-1579374600-1579391940@kulturverein-staudernheim.de
SUMMARY:2. Kappensitzung der Bachschnooge
DESCRIPTION:
URL:https://kulturverein-staudernheim.de/event/2-kappensitzung-der-bachschnooge
LOCATION:Staudernheim Vfl Halle\, Deutschland
CATEGORIES:Termine und Events
END:VEVENT
END:VCALENDAR